BEGIN:VCALENDAR
VERSION:2.0
PRODID:-//wp-events-plugin.com//7.2.3.1//EN
BEGIN:VEVENT
UID:3@cyclehub.org.uk
DTSTART;TZID=Europe/London:20250321T070000
DTEND;TZID=Europe/London:20250321T160000
DTSTAMP:20250312T212056Z
URL:https://cyclehub.org.uk/events/test-dr-bike-event-1-2/
SUMMARY:Test Dr Bike Event 1
DESCRIPTION:This is an example excerpt
LOCATION:Desborough College\, 5 Shoppenhangers Rd\,\, Maidenhead\, Berks\, 
  SL6 2QB\, United Kingdom
X-APPLE-STRUCTURED-LOCATION;VALUE=URI;X-ADDRESS=5 Shoppenhangers Rd\,\, Mai
 denhead\, Berks\,  SL6 2QB\, United Kingdom;X-APPLE-RADIUS=100;X-TITLE=Des
 borough College:geo:0,0
END:VEVENT
BEGIN:VEVENT
UID:8@cyclehub.org.uk
DTSTART;TZID=Europe/London:20250323T110000
DTEND;TZID=Europe/London:20250323T120000
DTSTAMP:20250312T215755Z
URL:https://cyclehub.org.uk/events/test-booking-event/
SUMMARY:Test booking event
DESCRIPTION:This is a test
END:VEVENT
BEGIN:VEVENT
UID:4@cyclehub.org.uk
DTSTART;TZID=Europe/London:20250508T000000
DTEND;TZID=Europe/London:20250508T000000
DTSTAMP:20250429T204558Z
URL:https://cyclehub.org.uk/events/test-event-2/
SUMMARY:Test Event
DESCRIPTION:Test Event for community cycle ride.  This is not an actual ri
 de so please don't turn up to Ockwells Park on this day!\n\nHopefully this
  feature and online booking will be live soon.
END:VEVENT
BEGIN:VTIMEZONE
TZID:Europe/London
X-LIC-LOCATION:Europe/London
BEGIN:STANDARD
DTSTART:20241027T010000
TZOFFSETFROM:+0100
TZOFFSETTO:+0000
TZNAME:GMT
END:STANDARD
BEGIN:DAYLIGHT
DTSTART:20250330T020000
TZOFFSETFROM:+0000
TZOFFSETTO:+0100
TZNAME:BST
END:DAYLIGHT
END:VTIMEZONE
END:VCALENDAR